BEGIN:VCALENDAR
VERSION:2.0
PRODID:-//hacksw/handcal//NONSGML v1.0//EN
BEGIN:VEVENT
SUMMARY:Classement regional
UID:84009849-c623-48e4-80e9-de420c6c0ce8
DTSTART:20260312T090000Z
DTEND:20260312T130000Z
LOCATION:Localisation   
CATEGORIES:Sportif
STATUS:
URL;VALUE=URI:https://aplm-surfcasting.sportsregions.fr/evenements/2026/03/12/classement-regional-2426748
END:VEVENT
END:VCALENDAR
